BEGIN:VCALENDAR
VERSION:2.0
PRODID:-//Montessori Stepping Stones - ECPv6.15.20//NONSGML v1.0//EN
CALSCALE:GREGORIAN
METHOD:PUBLISH
X-WR-CALNAME:Montessori Stepping Stones
X-ORIGINAL-URL:https://montessoristeppingstones.com
X-WR-CALDESC:Events for Montessori Stepping Stones
REFRESH-INTERVAL;VALUE=DURATION:PT1H
X-Robots-Tag:noindex
X-PUBLISHED-TTL:PT1H
BEGIN:VTIMEZONE
TZID:America/Detroit
BEGIN:DAYLIGHT
TZOFFSETFROM:-0500
TZOFFSETTO:-0400
TZNAME:EDT
DTSTART:20250309T070000
END:DAYLIGHT
BEGIN:STANDARD
TZOFFSETFROM:-0400
TZOFFSETTO:-0500
TZNAME:EST
DTSTART:20251102T060000
END:STANDARD
BEGIN:DAYLIGHT
TZOFFSETFROM:-0500
TZOFFSETTO:-0400
TZNAME:EDT
DTSTART:20260308T070000
END:DAYLIGHT
BEGIN:STANDARD
TZOFFSETFROM:-0400
TZOFFSETTO:-0500
TZNAME:EST
DTSTART:20261101T060000
END:STANDARD
BEGIN:DAYLIGHT
TZOFFSETFROM:-0500
TZOFFSETTO:-0400
TZNAME:EDT
DTSTART:20270314T070000
END:DAYLIGHT
BEGIN:STANDARD
TZOFFSETFROM:-0400
TZOFFSETTO:-0500
TZNAME:EST
DTSTART:20271107T060000
END:STANDARD
END:VTIMEZONE
BEGIN:VEVENT
DTSTART;VALUE=DATE:20260119
DTEND;VALUE=DATE:20260120
DTSTAMP:20260425T184818
CREATED:20260104T042301Z
LAST-MODIFIED:20260104T042301Z
UID:8388-1768780800-1768867199@montessoristeppingstones.com
SUMMARY:Closed - Staff Professional Day
DESCRIPTION:Closed for staff professional day (no school and no childcare).
URL:https://montessoristeppingstones.com/event/closed-staff-professional-day-jan-2026/
LOCATION:Montessori Stepping Stones\, 174 Cass Ave\, Mt Clemens\, MI\, 48043\, United States
END:VEVENT
END:VCALENDAR